BEGIN:VCALENDAR
VERSION:2.0
PRODID:-//Casarabonela - ECPv6.15.20//NONSGML v1.0//EN
CALSCALE:GREGORIAN
METHOD:PUBLISH
X-WR-CALNAME:Casarabonela
X-ORIGINAL-URL:https://casarabonela.com
X-WR-CALDESC:Events for Casarabonela
REFRESH-INTERVAL;VALUE=DURATION:PT1H
X-Robots-Tag:noindex
X-PUBLISHED-TTL:PT1H
BEGIN:VTIMEZONE
TZID:Europe/Madrid
BEGIN:STANDARD
TZOFFSETFROM:+0100
TZOFFSETTO:+0100
TZNAME:CET
DTSTART:19690101T000000
END:STANDARD
END:VTIMEZONE
BEGIN:VEVENT
DTSTART;TZID=Europe/Madrid:20260423T111629
DTEND;TZID=Europe/Madrid:20260423T111629
DTSTAMP:20260423T111629
CREATED:20250108T132146Z
LAST-MODIFIED:20250108T132146Z
UID:2839-0-0@casarabonela.com
SUMMARY:FIESTA LOCAL EN TURÓN (GRANADA)
DESCRIPTION:20250424
URL:https://casarabonela.com/event/fiesta-local-en-turon-granada/
END:VEVENT
BEGIN:VEVENT
DTSTART;TZID=Europe/Madrid:20260423T111629
DTEND;TZID=Europe/Madrid:20260423T111629
DTSTAMP:20260423T111629
CREATED:20250108T132146Z
LAST-MODIFIED:20250108T132146Z
UID:2840-0-0@casarabonela.com
SUMMARY:FIESTA LOCAL EN TURÓN (GRANADA)
DESCRIPTION:20250425
URL:https://casarabonela.com/event/fiesta-local-en-turon-granada-2/
END:VEVENT
BEGIN:VEVENT
DTSTART;TZID=Europe/Madrid:20260423T111629
DTEND;TZID=Europe/Madrid:20260423T111629
DTSTAMP:20260423T111629
CREATED:20250108T132132Z
LAST-MODIFIED:20250108T132132Z
UID:2836-0-0@casarabonela.com
SUMMARY:FIESTA LOCAL EN TORVIZCÓN (GRANADA)
DESCRIPTION:20250804
URL:https://casarabonela.com/event/fiesta-local-en-torvizcon-granada-2/
END:VEVENT
BEGIN:VEVENT
DTSTART;TZID=Europe/Madrid:20260423T111629
DTEND;TZID=Europe/Madrid:20260423T111629
DTSTAMP:20260423T111629
CREATED:20250108T132132Z
LAST-MODIFIED:20250108T132146Z
UID:2837-0-0@casarabonela.com
SUMMARY:FIESTA LOCAL EN TREVÉLEZ (GRANADA)
DESCRIPTION:20251020
URL:https://casarabonela.com/event/fiesta-local-en-trevelez-granada/
END:VEVENT
BEGIN:VEVENT
DTSTART;TZID=Europe/Madrid:20260423T111629
DTEND;TZID=Europe/Madrid:20260423T111629
DTSTAMP:20260423T111629
CREATED:20250108T132131Z
LAST-MODIFIED:20250108T132131Z
UID:2833-0-0@casarabonela.com
SUMMARY:FIESTA LOCAL EN TORRENUEVA COSTA (GRANADA)
DESCRIPTION:20250716
URL:https://casarabonela.com/event/fiesta-local-en-torrenueva-costa-granada/
END:VEVENT
BEGIN:VEVENT
DTSTART;TZID=Europe/Madrid:20260423T111629
DTEND;TZID=Europe/Madrid:20260423T111629
DTSTAMP:20260423T111629
CREATED:20250108T132131Z
LAST-MODIFIED:20250108T132131Z
UID:2834-0-0@casarabonela.com
SUMMARY:FIESTA LOCAL EN TORRENUEVA COSTA (GRANADA)
DESCRIPTION:20251009
URL:https://casarabonela.com/event/fiesta-local-en-torrenueva-costa-granada-2/
END:VEVENT
BEGIN:VEVENT
DTSTART;TZID=Europe/Madrid:20260423T111629
DTEND;TZID=Europe/Madrid:20260423T111629
DTSTAMP:20260423T111629
CREATED:20250108T132131Z
LAST-MODIFIED:20250108T132131Z
UID:2835-0-0@casarabonela.com
SUMMARY:FIESTA LOCAL EN TORVIZCÓN (GRANADA)
DESCRIPTION:20250120
URL:https://casarabonela.com/event/fiesta-local-en-torvizcon-granada/
END:VEVENT
BEGIN:VEVENT
DTSTART;TZID=Europe/Madrid:20260423T111629
DTEND;TZID=Europe/Madrid:20260423T111629
DTSTAMP:20260423T111629
CREATED:20250108T132117Z
LAST-MODIFIED:20250108T132117Z
UID:2832-0-0@casarabonela.com
SUMMARY:FIESTA LOCAL EN TORRE-CARDELA (GRANADA)
DESCRIPTION:20250811
URL:https://casarabonela.com/event/fiesta-local-en-torre-cardela-granada-2/
END:VEVENT
BEGIN:VEVENT
DTSTART;TZID=Europe/Madrid:20260423T111629
DTEND;TZID=Europe/Madrid:20260423T111629
DTSTAMP:20260423T111629
CREATED:20250108T132116Z
LAST-MODIFIED:20250108T132116Z
UID:2829-0-0@casarabonela.com
SUMMARY:FIESTA LOCAL EN LA TAHA (GRANADA)
DESCRIPTION:20250328
URL:https://casarabonela.com/event/fiesta-local-en-la-taha-granada/
END:VEVENT
BEGIN:VEVENT
DTSTART;TZID=Europe/Madrid:20260423T111629
DTEND;TZID=Europe/Madrid:20260423T111629
DTSTAMP:20260423T111629
CREATED:20250108T132116Z
LAST-MODIFIED:20250108T132116Z
UID:2830-0-0@casarabonela.com
SUMMARY:FIESTA LOCAL EN LA TAHA (GRANADA)
DESCRIPTION:20250818
URL:https://casarabonela.com/event/fiesta-local-en-la-taha-granada-2/
END:VEVENT
BEGIN:VEVENT
DTSTART;TZID=Europe/Madrid:20260423T111629
DTEND;TZID=Europe/Madrid:20260423T111629
DTSTAMP:20260423T111629
CREATED:20250108T132116Z
LAST-MODIFIED:20250108T132116Z
UID:2831-0-0@casarabonela.com
SUMMARY:FIESTA LOCAL EN TORRE-CARDELA (GRANADA)
DESCRIPTION:20250515
URL:https://casarabonela.com/event/fiesta-local-en-torre-cardela-granada/
END:VEVENT
BEGIN:VEVENT
DTSTART;TZID=Europe/Madrid:20260423T111629
DTEND;TZID=Europe/Madrid:20260423T111629
DTSTAMP:20260423T111629
CREATED:20250108T132102Z
LAST-MODIFIED:20250108T132116Z
UID:2827-0-0@casarabonela.com
SUMMARY:FIESTA LOCAL EN SORVILÁN (GRANADA)
DESCRIPTION:20250807
URL:https://casarabonela.com/event/fiesta-local-en-sorvilan-granada/
END:VEVENT
BEGIN:VEVENT
DTSTART;TZID=Europe/Madrid:20260423T111629
DTEND;TZID=Europe/Madrid:20260423T111629
DTSTAMP:20260423T111629
CREATED:20250108T132102Z
LAST-MODIFIED:20250108T132102Z
UID:2825-0-0@casarabonela.com
SUMMARY:FIESTA LOCAL EN SOPORTÚJAR (GRANADA)
DESCRIPTION:20250120
URL:https://casarabonela.com/event/fiesta-local-en-soportujar-granada/
END:VEVENT
BEGIN:VEVENT
DTSTART;TZID=Europe/Madrid:20260423T111629
DTEND;TZID=Europe/Madrid:20260423T111629
DTSTAMP:20260423T111629
CREATED:20250108T132102Z
LAST-MODIFIED:20250108T132102Z
UID:2826-0-0@casarabonela.com
SUMMARY:FIESTA LOCAL EN SOPORTÚJAR (GRANADA)
DESCRIPTION:20250818
URL:https://casarabonela.com/event/fiesta-local-en-soportujar-granada-2/
END:VEVENT
BEGIN:VEVENT
DTSTART;TZID=Europe/Madrid:20260423T111629
DTEND;TZID=Europe/Madrid:20260423T111629
DTSTAMP:20260423T111629
CREATED:20250108T132101Z
LAST-MODIFIED:20250108T132101Z
UID:2823-0-0@casarabonela.com
SUMMARY:FIESTA LOCAL EN SANTA FE (GRANADA)
DESCRIPTION:20250425
URL:https://casarabonela.com/event/fiesta-local-en-santa-fe-granada/
END:VEVENT
BEGIN:VEVENT
DTSTART;TZID=Europe/Madrid:20260423T111629
DTEND;TZID=Europe/Madrid:20260423T111629
DTSTAMP:20260423T111629
CREATED:20250108T132101Z
LAST-MODIFIED:20250108T132101Z
UID:2824-0-0@casarabonela.com
SUMMARY:FIESTA LOCAL EN SANTA FE (GRANADA)
DESCRIPTION:20250828
URL:https://casarabonela.com/event/fiesta-local-en-santa-fe-granada-2/
END:VEVENT
BEGIN:VEVENT
DTSTART;TZID=Europe/Madrid:20260423T111629
DTEND;TZID=Europe/Madrid:20260423T111629
DTSTAMP:20260423T111629
CREATED:20250108T132047Z
LAST-MODIFIED:20250108T132047Z
UID:2821-0-0@casarabonela.com
SUMMARY:FIESTA LOCAL EN SANTA CRUZ DEL COMERCIO (GRANADA)
DESCRIPTION:20250502
URL:https://casarabonela.com/event/fiesta-local-en-santa-cruz-del-comercio-granada/
END:VEVENT
BEGIN:VEVENT
DTSTART;TZID=Europe/Madrid:20260423T111629
DTEND;TZID=Europe/Madrid:20260423T111629
DTSTAMP:20260423T111629
CREATED:20250108T132047Z
LAST-MODIFIED:20250108T132047Z
UID:2822-0-0@casarabonela.com
SUMMARY:FIESTA LOCAL EN SANTA CRUZ DEL COMERCIO (GRANADA)
DESCRIPTION:20250613
URL:https://casarabonela.com/event/fiesta-local-en-santa-cruz-del-comercio-granada-2/
END:VEVENT
BEGIN:VEVENT
DTSTART;TZID=Europe/Madrid:20260423T111629
DTEND;TZID=Europe/Madrid:20260423T111629
DTSTAMP:20260423T111629
CREATED:20250108T132046Z
LAST-MODIFIED:20250108T132046Z
UID:2819-0-0@casarabonela.com
SUMMARY:FIESTA LOCAL EN SALOBREÑA (GRANADA)
DESCRIPTION:20250624
URL:https://casarabonela.com/event/fiesta-local-en-salobrena-granada/
END:VEVENT
BEGIN:VEVENT
DTSTART;TZID=Europe/Madrid:20260423T111629
DTEND;TZID=Europe/Madrid:20260423T111629
DTSTAMP:20260423T111629
CREATED:20250108T132046Z
LAST-MODIFIED:20250108T132046Z
UID:2820-0-0@casarabonela.com
SUMMARY:FIESTA LOCAL EN SALOBREÑA (GRANADA)
DESCRIPTION:20251007
URL:https://casarabonela.com/event/fiesta-local-en-salobrena-granada-2/
END:VEVENT
BEGIN:VEVENT
DTSTART;TZID=Europe/Madrid:20260423T111629
DTEND;TZID=Europe/Madrid:20260423T111629
DTSTAMP:20260423T111629
CREATED:20250108T132032Z
LAST-MODIFIED:20250108T132032Z
UID:2815-0-0@casarabonela.com
SUMMARY:FIESTA LOCAL EN RUBITE (GRANADA)
DESCRIPTION:20250825
URL:https://casarabonela.com/event/fiesta-local-en-rubite-granada/
END:VEVENT
BEGIN:VEVENT
DTSTART;TZID=Europe/Madrid:20260423T111629
DTEND;TZID=Europe/Madrid:20260423T111629
DTSTAMP:20260423T111629
CREATED:20250108T132032Z
LAST-MODIFIED:20250108T132032Z
UID:2816-0-0@casarabonela.com
SUMMARY:FIESTA LOCAL EN RUBITE (GRANADA)
DESCRIPTION:20251007
URL:https://casarabonela.com/event/fiesta-local-en-rubite-granada-2/
END:VEVENT
BEGIN:VEVENT
DTSTART;TZID=Europe/Madrid:20260423T111629
DTEND;TZID=Europe/Madrid:20260423T111629
DTSTAMP:20260423T111629
CREATED:20250108T132032Z
LAST-MODIFIED:20250108T132046Z
UID:2817-0-0@casarabonela.com
SUMMARY:FIESTA LOCAL EN SALAR (GRANADA)
DESCRIPTION:20251016
URL:https://casarabonela.com/event/fiesta-local-en-salar-granada/
END:VEVENT
BEGIN:VEVENT
DTSTART;TZID=Europe/Madrid:20260423T111629
DTEND;TZID=Europe/Madrid:20260423T111629
DTSTAMP:20260423T111629
CREATED:20250108T132031Z
LAST-MODIFIED:20250108T132031Z
UID:2813-0-0@casarabonela.com
SUMMARY:FIESTA LOCAL EN QUÉNTAR (GRANADA)
DESCRIPTION:20250120
URL:https://casarabonela.com/event/fiesta-local-en-quentar-granada/
END:VEVENT
BEGIN:VEVENT
DTSTART;TZID=Europe/Madrid:20260423T111629
DTEND;TZID=Europe/Madrid:20260423T111629
DTSTAMP:20260423T111629
CREATED:20250108T132031Z
LAST-MODIFIED:20250108T132031Z
UID:2814-0-0@casarabonela.com
SUMMARY:FIESTA LOCAL EN QUÉNTAR (GRANADA)
DESCRIPTION:20250912
URL:https://casarabonela.com/event/fiesta-local-en-quentar-granada-2/
END:VEVENT
BEGIN:VEVENT
DTSTART;TZID=Europe/Madrid:20260423T111629
DTEND;TZID=Europe/Madrid:20260423T111629
DTSTAMP:20260423T111629
CREATED:20250108T132017Z
LAST-MODIFIED:20250108T132017Z
UID:2810-0-0@casarabonela.com
SUMMARY:FIESTA LOCAL EN PULIANAS (GRANADA)
DESCRIPTION:20250619
URL:https://casarabonela.com/event/fiesta-local-en-pulianas-granada-2/
END:VEVENT
BEGIN:VEVENT
DTSTART;TZID=Europe/Madrid:20260423T111629
DTEND;TZID=Europe/Madrid:20260423T111629
DTSTAMP:20260423T111629
CREATED:20250108T132017Z
LAST-MODIFIED:20250108T132017Z
UID:2811-0-0@casarabonela.com
SUMMARY:FIESTA LOCAL EN PURULLENA (GRANADA)
DESCRIPTION:20250822
URL:https://casarabonela.com/event/fiesta-local-en-purullena-granada/
END:VEVENT
BEGIN:VEVENT
DTSTART;TZID=Europe/Madrid:20260423T111629
DTEND;TZID=Europe/Madrid:20260423T111629
DTSTAMP:20260423T111629
CREATED:20250108T132017Z
LAST-MODIFIED:20250108T132017Z
UID:2812-0-0@casarabonela.com
SUMMARY:FIESTA LOCAL EN PURULLENA (GRANADA)
DESCRIPTION:20251111
URL:https://casarabonela.com/event/fiesta-local-en-purullena-granada-2/
END:VEVENT
BEGIN:VEVENT
DTSTART;TZID=Europe/Madrid:20260423T111629
DTEND;TZID=Europe/Madrid:20260423T111629
DTSTAMP:20260423T111629
CREATED:20250108T132017Z
LAST-MODIFIED:20250108T132017Z
UID:2809-0-0@casarabonela.com
SUMMARY:FIESTA LOCAL EN PULIANAS (GRANADA)
DESCRIPTION:20250227
URL:https://casarabonela.com/event/fiesta-local-en-pulianas-granada/
END:VEVENT
BEGIN:VEVENT
DTSTART;TZID=Europe/Madrid:20260423T111629
DTEND;TZID=Europe/Madrid:20260423T111629
DTSTAMP:20260423T111629
CREATED:20250108T132002Z
LAST-MODIFIED:20250108T132002Z
UID:2806-0-0@casarabonela.com
SUMMARY:FIESTA LOCAL EN PÓRTUGOS (GRANADA)
DESCRIPTION:20251006
URL:https://casarabonela.com/event/fiesta-local-en-portugos-granada-2/
END:VEVENT
END:VCALENDAR