BEGIN:VCALENDAR
VERSION:2.0
PRODID:-//Casarabonela - ECPv6.15.20//NONSGML v1.0//EN
CALSCALE:GREGORIAN
METHOD:PUBLISH
X-WR-CALNAME:Casarabonela
X-ORIGINAL-URL:https://casarabonela.com
X-WR-CALDESC:Events for Casarabonela
REFRESH-INTERVAL;VALUE=DURATION:PT1H
X-Robots-Tag:noindex
X-PUBLISHED-TTL:PT1H
BEGIN:VTIMEZONE
TZID:Europe/Madrid
BEGIN:STANDARD
TZOFFSETFROM:+0100
TZOFFSETTO:+0100
TZNAME:CET
DTSTART:19690101T000000
END:STANDARD
END:VTIMEZONE
BEGIN:VEVENT
DTSTART;TZID=Europe/Madrid:20260423T093815
DTEND;TZID=Europe/Madrid:20260423T093815
DTSTAMP:20260423T093815
CREATED:20250108T132232Z
LAST-MODIFIED:20250108T132232Z
UID:2855-0-0@casarabonela.com
SUMMARY:FIESTA LOCAL EN VILLA DE OTURA (GRANADA)
DESCRIPTION:20250619
URL:https://casarabonela.com/event/fiesta-local-en-villa-de-otura-granada/
END:VEVENT
BEGIN:VEVENT
DTSTART;TZID=Europe/Madrid:20260423T093815
DTEND;TZID=Europe/Madrid:20260423T093815
DTSTAMP:20260423T093815
CREATED:20250108T132217Z
LAST-MODIFIED:20250108T132217Z
UID:2851-0-0@casarabonela.com
SUMMARY:FIESTA LOCAL EN VEGAS DEL GENIL (GRANADA)
DESCRIPTION:20250411
URL:https://casarabonela.com/event/fiesta-local-en-vegas-del-genil-granada/
END:VEVENT
BEGIN:VEVENT
DTSTART;TZID=Europe/Madrid:20260423T093815
DTEND;TZID=Europe/Madrid:20260423T093815
DTSTAMP:20260423T093815
CREATED:20250108T132217Z
LAST-MODIFIED:20250108T132217Z
UID:2852-0-0@casarabonela.com
SUMMARY:FIESTA LOCAL EN VEGAS DEL GENIL (GRANADA)
DESCRIPTION:20251003
URL:https://casarabonela.com/event/fiesta-local-en-vegas-del-genil-granada-2/
END:VEVENT
BEGIN:VEVENT
DTSTART;TZID=Europe/Madrid:20260423T093815
DTEND;TZID=Europe/Madrid:20260423T093815
DTSTAMP:20260423T093815
CREATED:20250108T132216Z
LAST-MODIFIED:20250108T132216Z
UID:2849-0-0@casarabonela.com
SUMMARY:FIESTA LOCAL EN VÁLOR (GRANADA)
DESCRIPTION:20250915
URL:https://casarabonela.com/event/fiesta-local-en-valor-granada/
END:VEVENT
BEGIN:VEVENT
DTSTART;TZID=Europe/Madrid:20260423T093815
DTEND;TZID=Europe/Madrid:20260423T093815
DTSTAMP:20260423T093815
CREATED:20250108T132216Z
LAST-MODIFIED:20250108T132216Z
UID:2850-0-0@casarabonela.com
SUMMARY:FIESTA LOCAL EN VÁLOR (GRANADA)
DESCRIPTION:20250916
URL:https://casarabonela.com/event/fiesta-local-en-valor-granada-2/
END:VEVENT
BEGIN:VEVENT
DTSTART;TZID=Europe/Madrid:20260423T093815
DTEND;TZID=Europe/Madrid:20260423T093815
DTSTAMP:20260423T093815
CREATED:20250108T132202Z
LAST-MODIFIED:20250108T132202Z
UID:2845-0-0@casarabonela.com
SUMMARY:FIESTA LOCAL EN EL VALLE (GRANADA)
DESCRIPTION:20250725
URL:https://casarabonela.com/event/fiesta-local-en-el-valle-granada/
END:VEVENT
BEGIN:VEVENT
DTSTART;TZID=Europe/Madrid:20260423T093815
DTEND;TZID=Europe/Madrid:20260423T093815
DTSTAMP:20260423T093815
CREATED:20250108T132202Z
LAST-MODIFIED:20250108T132202Z
UID:2846-0-0@casarabonela.com
SUMMARY:FIESTA LOCAL EN EL VALLE (GRANADA)
DESCRIPTION:20251226
URL:https://casarabonela.com/event/fiesta-local-en-el-valle-granada-2/
END:VEVENT
BEGIN:VEVENT
DTSTART;TZID=Europe/Madrid:20260423T093815
DTEND;TZID=Europe/Madrid:20260423T093815
DTSTAMP:20260423T093815
CREATED:20250108T132202Z
LAST-MODIFIED:20250108T132216Z
UID:2847-0-0@casarabonela.com
SUMMARY:FIESTA LOCAL EN VALDERRUBIO (GRANADA)
DESCRIPTION:20251218
URL:https://casarabonela.com/event/fiesta-local-en-valderrubio-granada/
END:VEVENT
BEGIN:VEVENT
DTSTART;TZID=Europe/Madrid:20260423T093815
DTEND;TZID=Europe/Madrid:20260423T093815
DTSTAMP:20260423T093815
CREATED:20250108T132201Z
LAST-MODIFIED:20250108T132201Z
UID:2843-0-0@casarabonela.com
SUMMARY:FIESTA LOCAL EN VALLE DEL ZALABÍ (GRANADA)
DESCRIPTION:20250428
URL:https://casarabonela.com/event/fiesta-local-en-valle-del-zalabi-granada/
END:VEVENT
BEGIN:VEVENT
DTSTART;TZID=Europe/Madrid:20260423T093815
DTEND;TZID=Europe/Madrid:20260423T093815
DTSTAMP:20260423T093815
CREATED:20250108T132201Z
LAST-MODIFIED:20250108T132201Z
UID:2844-0-0@casarabonela.com
SUMMARY:FIESTA LOCAL EN VALLE DEL ZALABÍ (GRANADA)
DESCRIPTION:20250915
URL:https://casarabonela.com/event/fiesta-local-en-valle-del-zalabi-granada-2/
END:VEVENT
BEGIN:VEVENT
DTSTART;TZID=Europe/Madrid:20260423T093815
DTEND;TZID=Europe/Madrid:20260423T093815
DTSTAMP:20260423T093815
CREATED:20250108T132147Z
LAST-MODIFIED:20250108T132147Z
UID:2841-0-0@casarabonela.com
SUMMARY:FIESTA LOCAL EN UGÍJAR (GRANADA)
DESCRIPTION:20251014
URL:https://casarabonela.com/event/fiesta-local-en-ugijar-granada/
END:VEVENT
BEGIN:VEVENT
DTSTART;TZID=Europe/Madrid:20260423T093815
DTEND;TZID=Europe/Madrid:20260423T093815
DTSTAMP:20260423T093815
CREATED:20250108T132147Z
LAST-MODIFIED:20250108T132147Z
UID:2842-0-0@casarabonela.com
SUMMARY:FIESTA LOCAL EN UGÍJAR (GRANADA)
DESCRIPTION:20251015
URL:https://casarabonela.com/event/fiesta-local-en-ugijar-granada-2/
END:VEVENT
BEGIN:VEVENT
DTSTART;TZID=Europe/Madrid:20260423T093815
DTEND;TZID=Europe/Madrid:20260423T093815
DTSTAMP:20260423T093815
CREATED:20250108T132146Z
LAST-MODIFIED:20250108T132146Z
UID:2839-0-0@casarabonela.com
SUMMARY:FIESTA LOCAL EN TURÓN (GRANADA)
DESCRIPTION:20250424
URL:https://casarabonela.com/event/fiesta-local-en-turon-granada/
END:VEVENT
BEGIN:VEVENT
DTSTART;TZID=Europe/Madrid:20260423T093815
DTEND;TZID=Europe/Madrid:20260423T093815
DTSTAMP:20260423T093815
CREATED:20250108T132146Z
LAST-MODIFIED:20250108T132146Z
UID:2840-0-0@casarabonela.com
SUMMARY:FIESTA LOCAL EN TURÓN (GRANADA)
DESCRIPTION:20250425
URL:https://casarabonela.com/event/fiesta-local-en-turon-granada-2/
END:VEVENT
BEGIN:VEVENT
DTSTART;TZID=Europe/Madrid:20260423T093815
DTEND;TZID=Europe/Madrid:20260423T093815
DTSTAMP:20260423T093815
CREATED:20250108T132132Z
LAST-MODIFIED:20250108T132132Z
UID:2836-0-0@casarabonela.com
SUMMARY:FIESTA LOCAL EN TORVIZCÓN (GRANADA)
DESCRIPTION:20250804
URL:https://casarabonela.com/event/fiesta-local-en-torvizcon-granada-2/
END:VEVENT
BEGIN:VEVENT
DTSTART;TZID=Europe/Madrid:20260423T093815
DTEND;TZID=Europe/Madrid:20260423T093815
DTSTAMP:20260423T093815
CREATED:20250108T132132Z
LAST-MODIFIED:20250108T132146Z
UID:2837-0-0@casarabonela.com
SUMMARY:FIESTA LOCAL EN TREVÉLEZ (GRANADA)
DESCRIPTION:20251020
URL:https://casarabonela.com/event/fiesta-local-en-trevelez-granada/
END:VEVENT
BEGIN:VEVENT
DTSTART;TZID=Europe/Madrid:20260423T093815
DTEND;TZID=Europe/Madrid:20260423T093815
DTSTAMP:20260423T093815
CREATED:20250108T132131Z
LAST-MODIFIED:20250108T132131Z
UID:2833-0-0@casarabonela.com
SUMMARY:FIESTA LOCAL EN TORRENUEVA COSTA (GRANADA)
DESCRIPTION:20250716
URL:https://casarabonela.com/event/fiesta-local-en-torrenueva-costa-granada/
END:VEVENT
BEGIN:VEVENT
DTSTART;TZID=Europe/Madrid:20260423T093815
DTEND;TZID=Europe/Madrid:20260423T093815
DTSTAMP:20260423T093815
CREATED:20250108T132131Z
LAST-MODIFIED:20250108T132131Z
UID:2834-0-0@casarabonela.com
SUMMARY:FIESTA LOCAL EN TORRENUEVA COSTA (GRANADA)
DESCRIPTION:20251009
URL:https://casarabonela.com/event/fiesta-local-en-torrenueva-costa-granada-2/
END:VEVENT
BEGIN:VEVENT
DTSTART;TZID=Europe/Madrid:20260423T093815
DTEND;TZID=Europe/Madrid:20260423T093815
DTSTAMP:20260423T093815
CREATED:20250108T132131Z
LAST-MODIFIED:20250108T132131Z
UID:2835-0-0@casarabonela.com
SUMMARY:FIESTA LOCAL EN TORVIZCÓN (GRANADA)
DESCRIPTION:20250120
URL:https://casarabonela.com/event/fiesta-local-en-torvizcon-granada/
END:VEVENT
BEGIN:VEVENT
DTSTART;TZID=Europe/Madrid:20260423T093815
DTEND;TZID=Europe/Madrid:20260423T093815
DTSTAMP:20260423T093815
CREATED:20250108T132117Z
LAST-MODIFIED:20250108T132117Z
UID:2832-0-0@casarabonela.com
SUMMARY:FIESTA LOCAL EN TORRE-CARDELA (GRANADA)
DESCRIPTION:20250811
URL:https://casarabonela.com/event/fiesta-local-en-torre-cardela-granada-2/
END:VEVENT
BEGIN:VEVENT
DTSTART;TZID=Europe/Madrid:20260423T093815
DTEND;TZID=Europe/Madrid:20260423T093815
DTSTAMP:20260423T093815
CREATED:20250108T132116Z
LAST-MODIFIED:20250108T132116Z
UID:2829-0-0@casarabonela.com
SUMMARY:FIESTA LOCAL EN LA TAHA (GRANADA)
DESCRIPTION:20250328
URL:https://casarabonela.com/event/fiesta-local-en-la-taha-granada/
END:VEVENT
BEGIN:VEVENT
DTSTART;TZID=Europe/Madrid:20260423T093815
DTEND;TZID=Europe/Madrid:20260423T093815
DTSTAMP:20260423T093815
CREATED:20250108T132116Z
LAST-MODIFIED:20250108T132116Z
UID:2830-0-0@casarabonela.com
SUMMARY:FIESTA LOCAL EN LA TAHA (GRANADA)
DESCRIPTION:20250818
URL:https://casarabonela.com/event/fiesta-local-en-la-taha-granada-2/
END:VEVENT
BEGIN:VEVENT
DTSTART;TZID=Europe/Madrid:20260423T093815
DTEND;TZID=Europe/Madrid:20260423T093815
DTSTAMP:20260423T093815
CREATED:20250108T132116Z
LAST-MODIFIED:20250108T132116Z
UID:2831-0-0@casarabonela.com
SUMMARY:FIESTA LOCAL EN TORRE-CARDELA (GRANADA)
DESCRIPTION:20250515
URL:https://casarabonela.com/event/fiesta-local-en-torre-cardela-granada/
END:VEVENT
BEGIN:VEVENT
DTSTART;TZID=Europe/Madrid:20260423T093815
DTEND;TZID=Europe/Madrid:20260423T093815
DTSTAMP:20260423T093815
CREATED:20250108T132102Z
LAST-MODIFIED:20250108T132116Z
UID:2827-0-0@casarabonela.com
SUMMARY:FIESTA LOCAL EN SORVILÁN (GRANADA)
DESCRIPTION:20250807
URL:https://casarabonela.com/event/fiesta-local-en-sorvilan-granada/
END:VEVENT
BEGIN:VEVENT
DTSTART;TZID=Europe/Madrid:20260423T093815
DTEND;TZID=Europe/Madrid:20260423T093815
DTSTAMP:20260423T093815
CREATED:20250108T132102Z
LAST-MODIFIED:20250108T132102Z
UID:2825-0-0@casarabonela.com
SUMMARY:FIESTA LOCAL EN SOPORTÚJAR (GRANADA)
DESCRIPTION:20250120
URL:https://casarabonela.com/event/fiesta-local-en-soportujar-granada/
END:VEVENT
BEGIN:VEVENT
DTSTART;TZID=Europe/Madrid:20260423T093815
DTEND;TZID=Europe/Madrid:20260423T093815
DTSTAMP:20260423T093815
CREATED:20250108T132102Z
LAST-MODIFIED:20250108T132102Z
UID:2826-0-0@casarabonela.com
SUMMARY:FIESTA LOCAL EN SOPORTÚJAR (GRANADA)
DESCRIPTION:20250818
URL:https://casarabonela.com/event/fiesta-local-en-soportujar-granada-2/
END:VEVENT
BEGIN:VEVENT
DTSTART;TZID=Europe/Madrid:20260423T093815
DTEND;TZID=Europe/Madrid:20260423T093815
DTSTAMP:20260423T093815
CREATED:20250108T132101Z
LAST-MODIFIED:20250108T132101Z
UID:2823-0-0@casarabonela.com
SUMMARY:FIESTA LOCAL EN SANTA FE (GRANADA)
DESCRIPTION:20250425
URL:https://casarabonela.com/event/fiesta-local-en-santa-fe-granada/
END:VEVENT
BEGIN:VEVENT
DTSTART;TZID=Europe/Madrid:20260423T093815
DTEND;TZID=Europe/Madrid:20260423T093815
DTSTAMP:20260423T093815
CREATED:20250108T132101Z
LAST-MODIFIED:20250108T132101Z
UID:2824-0-0@casarabonela.com
SUMMARY:FIESTA LOCAL EN SANTA FE (GRANADA)
DESCRIPTION:20250828
URL:https://casarabonela.com/event/fiesta-local-en-santa-fe-granada-2/
END:VEVENT
BEGIN:VEVENT
DTSTART;TZID=Europe/Madrid:20260423T093815
DTEND;TZID=Europe/Madrid:20260423T093815
DTSTAMP:20260423T093815
CREATED:20250108T132047Z
LAST-MODIFIED:20250108T132047Z
UID:2821-0-0@casarabonela.com
SUMMARY:FIESTA LOCAL EN SANTA CRUZ DEL COMERCIO (GRANADA)
DESCRIPTION:20250502
URL:https://casarabonela.com/event/fiesta-local-en-santa-cruz-del-comercio-granada/
END:VEVENT
BEGIN:VEVENT
DTSTART;TZID=Europe/Madrid:20260423T093815
DTEND;TZID=Europe/Madrid:20260423T093815
DTSTAMP:20260423T093815
CREATED:20250108T132047Z
LAST-MODIFIED:20250108T132047Z
UID:2822-0-0@casarabonela.com
SUMMARY:FIESTA LOCAL EN SANTA CRUZ DEL COMERCIO (GRANADA)
DESCRIPTION:20250613
URL:https://casarabonela.com/event/fiesta-local-en-santa-cruz-del-comercio-granada-2/
END:VEVENT
END:VCALENDAR