BEGIN:VCALENDAR
VERSION:2.0
PRODID:-//Casarabonela - ECPv6.15.20//NONSGML v1.0//EN
CALSCALE:GREGORIAN
METHOD:PUBLISH
X-WR-CALNAME:Casarabonela
X-ORIGINAL-URL:https://casarabonela.com
X-WR-CALDESC:Events for Casarabonela
REFRESH-INTERVAL;VALUE=DURATION:PT1H
X-Robots-Tag:noindex
X-PUBLISHED-TTL:PT1H
BEGIN:VTIMEZONE
TZID:Europe/Madrid
BEGIN:STANDARD
TZOFFSETFROM:+0100
TZOFFSETTO:+0100
TZNAME:CET
DTSTART:19690101T000000
END:STANDARD
END:VTIMEZONE
BEGIN:VEVENT
DTSTART;TZID=Europe/Madrid:20260424T175715
DTEND;TZID=Europe/Madrid:20260424T175715
DTSTAMP:20260424T175715
CREATED:20250108T132632Z
LAST-MODIFIED:20250108T132632Z
UID:2933-0-0@casarabonela.com
SUMMARY:FIESTA LOCAL EN ENCINASOLA (HUELVA)
DESCRIPTION:20250428
URL:https://casarabonela.com/event/fiesta-local-en-encinasola-huelva/
END:VEVENT
BEGIN:VEVENT
DTSTART;TZID=Europe/Madrid:20260424T175715
DTEND;TZID=Europe/Madrid:20260424T175715
DTSTAMP:20260424T175715
CREATED:20250108T132617Z
LAST-MODIFIED:20250108T132617Z
UID:2929-0-0@casarabonela.com
SUMMARY:FIESTA LOCAL EN CUMBRES DE SAN BARTOLOMÉ (HUELVA)
DESCRIPTION:20250825
URL:https://casarabonela.com/event/fiesta-local-en-cumbres-de-san-bartolome-huelva/
END:VEVENT
BEGIN:VEVENT
DTSTART;TZID=Europe/Madrid:20260424T175715
DTEND;TZID=Europe/Madrid:20260424T175715
DTSTAMP:20260424T175715
CREATED:20250108T132617Z
LAST-MODIFIED:20250108T132617Z
UID:2930-0-0@casarabonela.com
SUMMARY:FIESTA LOCAL EN CUMBRES DE SAN BARTOLOMÉ (HUELVA)
DESCRIPTION:20250908
URL:https://casarabonela.com/event/fiesta-local-en-cumbres-de-san-bartolome-huelva-2/
END:VEVENT
BEGIN:VEVENT
DTSTART;TZID=Europe/Madrid:20260424T175715
DTEND;TZID=Europe/Madrid:20260424T175715
DTSTAMP:20260424T175715
CREATED:20250108T132617Z
LAST-MODIFIED:20250108T132617Z
UID:2931-0-0@casarabonela.com
SUMMARY:FIESTA LOCAL EN CUMBRES MAYORES (HUELVA)
DESCRIPTION:20250428
URL:https://casarabonela.com/event/fiesta-local-en-cumbres-mayores-huelva/
END:VEVENT
BEGIN:VEVENT
DTSTART;TZID=Europe/Madrid:20260424T175715
DTEND;TZID=Europe/Madrid:20260424T175715
DTSTAMP:20260424T175715
CREATED:20250108T132617Z
LAST-MODIFIED:20250108T132617Z
UID:2932-0-0@casarabonela.com
SUMMARY:FIESTA LOCAL EN CUMBRES MAYORES (HUELVA)
DESCRIPTION:20250619
URL:https://casarabonela.com/event/fiesta-local-en-cumbres-mayores-huelva-2/
END:VEVENT
BEGIN:VEVENT
DTSTART;TZID=Europe/Madrid:20260424T175715
DTEND;TZID=Europe/Madrid:20260424T175715
DTSTAMP:20260424T175715
CREATED:20250108T132602Z
LAST-MODIFIED:20250108T132617Z
UID:2927-0-0@casarabonela.com
SUMMARY:FIESTA LOCAL EN CUMBRES DE ENMEDIO (HUELVA)
DESCRIPTION:20251010
URL:https://casarabonela.com/event/fiesta-local-en-cumbres-de-enmedio-huelva/
END:VEVENT
BEGIN:VEVENT
DTSTART;TZID=Europe/Madrid:20260424T175715
DTEND;TZID=Europe/Madrid:20260424T175715
DTSTAMP:20260424T175715
CREATED:20250108T132602Z
LAST-MODIFIED:20250108T132602Z
UID:2923-0-0@casarabonela.com
SUMMARY:FIESTA LOCAL EN CORTEGANA (HUELVA)
DESCRIPTION:20250616
URL:https://casarabonela.com/event/fiesta-local-en-cortegana-huelva/
END:VEVENT
BEGIN:VEVENT
DTSTART;TZID=Europe/Madrid:20260424T175715
DTEND;TZID=Europe/Madrid:20260424T175715
DTSTAMP:20260424T175715
CREATED:20250108T132602Z
LAST-MODIFIED:20250108T132602Z
UID:2924-0-0@casarabonela.com
SUMMARY:FIESTA LOCAL EN CORTEGANA (HUELVA)
DESCRIPTION:20250908
URL:https://casarabonela.com/event/fiesta-local-en-cortegana-huelva-2/
END:VEVENT
BEGIN:VEVENT
DTSTART;TZID=Europe/Madrid:20260424T175715
DTEND;TZID=Europe/Madrid:20260424T175715
DTSTAMP:20260424T175715
CREATED:20250108T132602Z
LAST-MODIFIED:20250108T132602Z
UID:2925-0-0@casarabonela.com
SUMMARY:FIESTA LOCAL EN CORTELAZOR LA REAL (HUELVA)
DESCRIPTION:20250512
URL:https://casarabonela.com/event/fiesta-local-en-cortelazor-la-real-huelva/
END:VEVENT
BEGIN:VEVENT
DTSTART;TZID=Europe/Madrid:20260424T175715
DTEND;TZID=Europe/Madrid:20260424T175715
DTSTAMP:20260424T175715
CREATED:20250108T132602Z
LAST-MODIFIED:20250108T132602Z
UID:2926-0-0@casarabonela.com
SUMMARY:FIESTA LOCAL EN CORTELAZOR LA REAL (HUELVA)
DESCRIPTION:20250818
URL:https://casarabonela.com/event/fiesta-local-en-cortelazor-la-real-huelva-2/
END:VEVENT
BEGIN:VEVENT
DTSTART;TZID=Europe/Madrid:20260424T175715
DTEND;TZID=Europe/Madrid:20260424T175715
DTSTAMP:20260424T175715
CREATED:20250108T132547Z
LAST-MODIFIED:20250108T132547Z
UID:2922-0-0@casarabonela.com
SUMMARY:FIESTA LOCAL EN CORTECONCEPCIÓN (HUELVA)
DESCRIPTION:20250908
URL:https://casarabonela.com/event/fiesta-local-en-corteconcepcion-huelva-2/
END:VEVENT
BEGIN:VEVENT
DTSTART;TZID=Europe/Madrid:20260424T175715
DTEND;TZID=Europe/Madrid:20260424T175715
DTSTAMP:20260424T175715
CREATED:20250108T132547Z
LAST-MODIFIED:20250108T132547Z
UID:2919-0-0@casarabonela.com
SUMMARY:FIESTA LOCAL EN CHUCENA (HUELVA)
DESCRIPTION:20250516
URL:https://casarabonela.com/event/fiesta-local-en-chucena-huelva/
END:VEVENT
BEGIN:VEVENT
DTSTART;TZID=Europe/Madrid:20260424T175715
DTEND;TZID=Europe/Madrid:20260424T175715
DTSTAMP:20260424T175715
CREATED:20250108T132547Z
LAST-MODIFIED:20250108T132547Z
UID:2920-0-0@casarabonela.com
SUMMARY:FIESTA LOCAL EN CHUCENA (HUELVA)
DESCRIPTION:20250818
URL:https://casarabonela.com/event/fiesta-local-en-chucena-huelva-2/
END:VEVENT
BEGIN:VEVENT
DTSTART;TZID=Europe/Madrid:20260424T175715
DTEND;TZID=Europe/Madrid:20260424T175715
DTSTAMP:20260424T175715
CREATED:20250108T132547Z
LAST-MODIFIED:20250108T132547Z
UID:2921-0-0@casarabonela.com
SUMMARY:FIESTA LOCAL EN CORTECONCEPCIÓN (HUELVA)
DESCRIPTION:20250811
URL:https://casarabonela.com/event/fiesta-local-en-corteconcepcion-huelva/
END:VEVENT
BEGIN:VEVENT
DTSTART;TZID=Europe/Madrid:20260424T175715
DTEND;TZID=Europe/Madrid:20260424T175715
DTSTAMP:20260424T175715
CREATED:20250108T132532Z
LAST-MODIFIED:20250108T132532Z
UID:2916-0-0@casarabonela.com
SUMMARY:FIESTA LOCAL EN CASTAÑO DEL ROBLEDO (HUELVA)
DESCRIPTION:20250908
URL:https://casarabonela.com/event/fiesta-local-en-castano-del-robledo-huelva-2/
END:VEVENT
BEGIN:VEVENT
DTSTART;TZID=Europe/Madrid:20260424T175715
DTEND;TZID=Europe/Madrid:20260424T175715
DTSTAMP:20260424T175715
CREATED:20250108T132532Z
LAST-MODIFIED:20250108T132547Z
UID:2917-0-0@casarabonela.com
SUMMARY:FIESTA LOCAL EN EL CERRO DE ANDÉVALO (HUELVA)
DESCRIPTION:20250804
URL:https://casarabonela.com/event/fiesta-local-en-el-cerro-de-andevalo-huelva/
END:VEVENT
BEGIN:VEVENT
DTSTART;TZID=Europe/Madrid:20260424T175715
DTEND;TZID=Europe/Madrid:20260424T175715
DTSTAMP:20260424T175715
CREATED:20250108T132532Z
LAST-MODIFIED:20250108T132532Z
UID:2914-0-0@casarabonela.com
SUMMARY:FIESTA LOCAL EN CARTAYA (HUELVA)
DESCRIPTION:20251003
URL:https://casarabonela.com/event/fiesta-local-en-cartaya-huelva-2/
END:VEVENT
BEGIN:VEVENT
DTSTART;TZID=Europe/Madrid:20260424T175715
DTEND;TZID=Europe/Madrid:20260424T175715
DTSTAMP:20260424T175715
CREATED:20250108T132532Z
LAST-MODIFIED:20250108T132532Z
UID:2915-0-0@casarabonela.com
SUMMARY:FIESTA LOCAL EN CASTAÑO DEL ROBLEDO (HUELVA)
DESCRIPTION:20250725
URL:https://casarabonela.com/event/fiesta-local-en-castano-del-robledo-huelva/
END:VEVENT
BEGIN:VEVENT
DTSTART;TZID=Europe/Madrid:20260424T175715
DTEND;TZID=Europe/Madrid:20260424T175715
DTSTAMP:20260424T175715
CREATED:20250108T132531Z
LAST-MODIFIED:20250108T132531Z
UID:2913-0-0@casarabonela.com
SUMMARY:FIESTA LOCAL EN CARTAYA (HUELVA)
DESCRIPTION:20251002
URL:https://casarabonela.com/event/fiesta-local-en-cartaya-huelva/
END:VEVENT
BEGIN:VEVENT
DTSTART;TZID=Europe/Madrid:20260424T175715
DTEND;TZID=Europe/Madrid:20260424T175715
DTSTAMP:20260424T175715
CREATED:20250108T132517Z
LAST-MODIFIED:20250108T132517Z
UID:2910-0-0@casarabonela.com
SUMMARY:FIESTA LOCAL EN CAMPOFRÍO (HUELVA)
DESCRIPTION:20250725
URL:https://casarabonela.com/event/fiesta-local-en-campofrio-huelva-2/
END:VEVENT
BEGIN:VEVENT
DTSTART;TZID=Europe/Madrid:20260424T175715
DTEND;TZID=Europe/Madrid:20260424T175715
DTSTAMP:20260424T175715
CREATED:20250108T132517Z
LAST-MODIFIED:20250108T132517Z
UID:2911-0-0@casarabonela.com
SUMMARY:FIESTA LOCAL EN CAÑAVERAL DE LEÓN (HUELVA)
DESCRIPTION:20250718
URL:https://casarabonela.com/event/fiesta-local-en-canaveral-de-leon-huelva/
END:VEVENT
BEGIN:VEVENT
DTSTART;TZID=Europe/Madrid:20260424T175715
DTEND;TZID=Europe/Madrid:20260424T175715
DTSTAMP:20260424T175715
CREATED:20250108T132517Z
LAST-MODIFIED:20250108T132517Z
UID:2912-0-0@casarabonela.com
SUMMARY:FIESTA LOCAL EN CAÑAVERAL DE LEÓN (HUELVA)
DESCRIPTION:20250721
URL:https://casarabonela.com/event/fiesta-local-en-canaveral-de-leon-huelva-2/
END:VEVENT
BEGIN:VEVENT
DTSTART;TZID=Europe/Madrid:20260424T175715
DTEND;TZID=Europe/Madrid:20260424T175715
DTSTAMP:20260424T175715
CREATED:20250108T132517Z
LAST-MODIFIED:20250108T132517Z
UID:2909-0-0@casarabonela.com
SUMMARY:FIESTA LOCAL EN CAMPOFRÍO (HUELVA)
DESCRIPTION:20250616
URL:https://casarabonela.com/event/fiesta-local-en-campofrio-huelva/
END:VEVENT
BEGIN:VEVENT
DTSTART;TZID=Europe/Madrid:20260424T175715
DTEND;TZID=Europe/Madrid:20260424T175715
DTSTAMP:20260424T175715
CREATED:20250108T132502Z
LAST-MODIFIED:20250108T132502Z
UID:2904-0-0@casarabonela.com
SUMMARY:FIESTA LOCAL EN CALA (HUELVA)
DESCRIPTION:20250910
URL:https://casarabonela.com/event/fiesta-local-en-cala-huelva-2/
END:VEVENT
BEGIN:VEVENT
DTSTART;TZID=Europe/Madrid:20260424T175715
DTEND;TZID=Europe/Madrid:20260424T175715
DTSTAMP:20260424T175715
CREATED:20250108T132502Z
LAST-MODIFIED:20250108T132502Z
UID:2905-0-0@casarabonela.com
SUMMARY:FIESTA LOCAL EN CALAÑAS (HUELVA)
DESCRIPTION:20250421
URL:https://casarabonela.com/event/fiesta-local-en-calanas-huelva/
END:VEVENT
BEGIN:VEVENT
DTSTART;TZID=Europe/Madrid:20260424T175715
DTEND;TZID=Europe/Madrid:20260424T175715
DTSTAMP:20260424T175715
CREATED:20250108T132502Z
LAST-MODIFIED:20250108T132502Z
UID:2906-0-0@casarabonela.com
SUMMARY:FIESTA LOCAL EN CALAÑAS (HUELVA)
DESCRIPTION:20250804
URL:https://casarabonela.com/event/fiesta-local-en-calanas-huelva-2/
END:VEVENT
BEGIN:VEVENT
DTSTART;TZID=Europe/Madrid:20260424T175715
DTEND;TZID=Europe/Madrid:20260424T175715
DTSTAMP:20260424T175715
CREATED:20250108T132502Z
LAST-MODIFIED:20250108T132517Z
UID:2907-0-0@casarabonela.com
SUMMARY:FIESTA LOCAL EN EL CAMPILLO (HUELVA)
DESCRIPTION:20250721
URL:https://casarabonela.com/event/fiesta-local-en-el-campillo-huelva/
END:VEVENT
BEGIN:VEVENT
DTSTART;TZID=Europe/Madrid:20260424T175715
DTEND;TZID=Europe/Madrid:20260424T175715
DTSTAMP:20260424T175715
CREATED:20250108T132502Z
LAST-MODIFIED:20250108T132502Z
UID:2903-0-0@casarabonela.com
SUMMARY:FIESTA LOCAL EN CALA (HUELVA)
DESCRIPTION:20250908
URL:https://casarabonela.com/event/fiesta-local-en-cala-huelva/
END:VEVENT
BEGIN:VEVENT
DTSTART;TZID=Europe/Madrid:20260424T175715
DTEND;TZID=Europe/Madrid:20260424T175715
DTSTAMP:20260424T175715
CREATED:20250108T132447Z
LAST-MODIFIED:20250108T132447Z
UID:2899-0-0@casarabonela.com
SUMMARY:FIESTA LOCAL EN BONARES (HUELVA)
DESCRIPTION:20250516
URL:https://casarabonela.com/event/fiesta-local-en-bonares-huelva/
END:VEVENT
BEGIN:VEVENT
DTSTART;TZID=Europe/Madrid:20260424T175715
DTEND;TZID=Europe/Madrid:20260424T175715
DTSTAMP:20260424T175715
CREATED:20250108T132447Z
LAST-MODIFIED:20250108T132447Z
UID:2900-0-0@casarabonela.com
SUMMARY:FIESTA LOCAL EN BONARES (HUELVA)
DESCRIPTION:20251022
URL:https://casarabonela.com/event/fiesta-local-en-bonares-huelva-2/
END:VEVENT
END:VCALENDAR