BEGIN:VCALENDAR
VERSION:2.0
PRODID:-//Casarabonela - ECPv6.15.20//NONSGML v1.0//EN
CALSCALE:GREGORIAN
METHOD:PUBLISH
X-WR-CALNAME:Casarabonela
X-ORIGINAL-URL:https://casarabonela.com
X-WR-CALDESC:Events for Casarabonela
REFRESH-INTERVAL;VALUE=DURATION:PT1H
X-Robots-Tag:noindex
X-PUBLISHED-TTL:PT1H
BEGIN:VTIMEZONE
TZID:Europe/Madrid
BEGIN:STANDARD
TZOFFSETFROM:+0100
TZOFFSETTO:+0100
TZNAME:CET
DTSTART:19690101T000000
END:STANDARD
END:VTIMEZONE
BEGIN:VEVENT
DTSTART;TZID=Europe/Madrid:20260421T011151
DTEND;TZID=Europe/Madrid:20260421T011151
DTSTAMP:20260421T011151
CREATED:20250108T133450Z
LAST-MODIFIED:20250108T133450Z
UID:3010-0-0@casarabonela.com
SUMMARY:FIESTA LOCAL EN SANTA OLALLA DEL CALA (HUELVA)
DESCRIPTION:20251210
URL:https://casarabonela.com/event/fiesta-local-en-santa-olalla-del-cala-huelva-2/
END:VEVENT
BEGIN:VEVENT
DTSTART;TZID=Europe/Madrid:20260421T011151
DTEND;TZID=Europe/Madrid:20260421T011151
DTSTAMP:20260421T011151
CREATED:20250108T133435Z
LAST-MODIFIED:20250108T133435Z
UID:3005-0-0@casarabonela.com
SUMMARY:FIESTA LOCAL EN SANTA ANA LA REAL (HUELVA)
DESCRIPTION:20250619
URL:https://casarabonela.com/event/fiesta-local-en-santa-ana-la-real-huelva/
END:VEVENT
BEGIN:VEVENT
DTSTART;TZID=Europe/Madrid:20260421T011151
DTEND;TZID=Europe/Madrid:20260421T011151
DTSTAMP:20260421T011151
CREATED:20250108T133435Z
LAST-MODIFIED:20250108T133435Z
UID:3006-0-0@casarabonela.com
SUMMARY:FIESTA LOCAL EN SANTA ANA LA REAL (HUELVA)
DESCRIPTION:20250724
URL:https://casarabonela.com/event/fiesta-local-en-santa-ana-la-real-huelva-2/
END:VEVENT
BEGIN:VEVENT
DTSTART;TZID=Europe/Madrid:20260421T011151
DTEND;TZID=Europe/Madrid:20260421T011151
DTSTAMP:20260421T011151
CREATED:20250108T133435Z
LAST-MODIFIED:20250108T133450Z
UID:3007-0-0@casarabonela.com
SUMMARY:FIESTA LOCAL EN SANTA BÁRBARA DE CASA (HUELVA)
DESCRIPTION:20250804
URL:https://casarabonela.com/event/fiesta-local-en-santa-barbara-de-casa-huelva/
END:VEVENT
BEGIN:VEVENT
DTSTART;TZID=Europe/Madrid:20260421T011151
DTEND;TZID=Europe/Madrid:20260421T011151
DTSTAMP:20260421T011151
CREATED:20250108T133435Z
LAST-MODIFIED:20250108T133435Z
UID:3003-0-0@casarabonela.com
SUMMARY:FIESTA LOCAL EN SANLÚCAR DE GUADIANA (HUELVA)
DESCRIPTION:20250428
URL:https://casarabonela.com/event/fiesta-local-en-sanlucar-de-guadiana-huelva/
END:VEVENT
BEGIN:VEVENT
DTSTART;TZID=Europe/Madrid:20260421T011151
DTEND;TZID=Europe/Madrid:20260421T011151
DTSTAMP:20260421T011151
CREATED:20250108T133435Z
LAST-MODIFIED:20250108T133435Z
UID:3004-0-0@casarabonela.com
SUMMARY:FIESTA LOCAL EN SANLÚCAR DE GUADIANA (HUELVA)
DESCRIPTION:20250505
URL:https://casarabonela.com/event/fiesta-local-en-sanlucar-de-guadiana-huelva-2/
END:VEVENT
BEGIN:VEVENT
DTSTART;TZID=Europe/Madrid:20260421T011151
DTEND;TZID=Europe/Madrid:20260421T011151
DTSTAMP:20260421T011151
CREATED:20250108T133420Z
LAST-MODIFIED:20250108T133420Z
UID:2999-0-0@casarabonela.com
SUMMARY:FIESTA LOCAL EN SAN JUAN DEL PUERTO (HUELVA)
DESCRIPTION:20250624
URL:https://casarabonela.com/event/fiesta-local-en-san-juan-del-puerto-huelva/
END:VEVENT
BEGIN:VEVENT
DTSTART;TZID=Europe/Madrid:20260421T011151
DTEND;TZID=Europe/Madrid:20260421T011151
DTSTAMP:20260421T011151
CREATED:20250108T133420Z
LAST-MODIFIED:20250108T133420Z
UID:3000-0-0@casarabonela.com
SUMMARY:FIESTA LOCAL EN SAN JUAN DEL PUERTO (HUELVA)
DESCRIPTION:20250716
URL:https://casarabonela.com/event/fiesta-local-en-san-juan-del-puerto-huelva-2/
END:VEVENT
BEGIN:VEVENT
DTSTART;TZID=Europe/Madrid:20260421T011151
DTEND;TZID=Europe/Madrid:20260421T011151
DTSTAMP:20260421T011151
CREATED:20250108T133420Z
LAST-MODIFIED:20250108T133420Z
UID:3001-0-0@casarabonela.com
SUMMARY:FIESTA LOCAL EN SAN SILVESTRE DE GUZMÁN (HUELVA)
DESCRIPTION:20250428
URL:https://casarabonela.com/event/fiesta-local-en-san-silvestre-de-guzman-huelva/
END:VEVENT
BEGIN:VEVENT
DTSTART;TZID=Europe/Madrid:20260421T011151
DTEND;TZID=Europe/Madrid:20260421T011151
DTSTAMP:20260421T011151
CREATED:20250108T133420Z
LAST-MODIFIED:20250108T133420Z
UID:3002-0-0@casarabonela.com
SUMMARY:FIESTA LOCAL EN SAN SILVESTRE DE GUZMÁN (HUELVA)
DESCRIPTION:20251231
URL:https://casarabonela.com/event/fiesta-local-en-san-silvestre-de-guzman-huelva-2/
END:VEVENT
BEGIN:VEVENT
DTSTART;TZID=Europe/Madrid:20260421T011151
DTEND;TZID=Europe/Madrid:20260421T011151
DTSTAMP:20260421T011151
CREATED:20250108T133405Z
LAST-MODIFIED:20250108T133405Z
UID:2993-0-0@casarabonela.com
SUMMARY:FIESTA LOCAL EN ROCIANA DEL CONDADO (HUELVA)
DESCRIPTION:20250825
URL:https://casarabonela.com/event/fiesta-local-en-rociana-del-condado-huelva/
END:VEVENT
BEGIN:VEVENT
DTSTART;TZID=Europe/Madrid:20260421T011151
DTEND;TZID=Europe/Madrid:20260421T011151
DTSTAMP:20260421T011151
CREATED:20250108T133405Z
LAST-MODIFIED:20250108T133405Z
UID:2994-0-0@casarabonela.com
SUMMARY:FIESTA LOCAL EN ROCIANA DEL CONDADO (HUELVA)
DESCRIPTION:20250908
URL:https://casarabonela.com/event/fiesta-local-en-rociana-del-condado-huelva-2/
END:VEVENT
BEGIN:VEVENT
DTSTART;TZID=Europe/Madrid:20260421T011151
DTEND;TZID=Europe/Madrid:20260421T011151
DTSTAMP:20260421T011151
CREATED:20250108T133405Z
LAST-MODIFIED:20250108T133405Z
UID:2995-0-0@casarabonela.com
SUMMARY:FIESTA LOCAL EN ROSAL DE LA FRONTERA (HUELVA)
DESCRIPTION:20250519
URL:https://casarabonela.com/event/fiesta-local-en-rosal-de-la-frontera-huelva/
END:VEVENT
BEGIN:VEVENT
DTSTART;TZID=Europe/Madrid:20260421T011151
DTEND;TZID=Europe/Madrid:20260421T011151
DTSTAMP:20260421T011151
CREATED:20250108T133405Z
LAST-MODIFIED:20250108T133405Z
UID:2996-0-0@casarabonela.com
SUMMARY:FIESTA LOCAL EN ROSAL DE LA FRONTERA (HUELVA)
DESCRIPTION:20250808
URL:https://casarabonela.com/event/fiesta-local-en-rosal-de-la-frontera-huelva-2/
END:VEVENT
BEGIN:VEVENT
DTSTART;TZID=Europe/Madrid:20260421T011151
DTEND;TZID=Europe/Madrid:20260421T011151
DTSTAMP:20260421T011151
CREATED:20250108T133405Z
LAST-MODIFIED:20250108T133420Z
UID:2997-0-0@casarabonela.com
SUMMARY:FIESTA LOCAL EN SAN BARTOLOMÉ DE LA TORRE (HUELVA)
DESCRIPTION:20250825
URL:https://casarabonela.com/event/fiesta-local-en-san-bartolome-de-la-torre-huelva/
END:VEVENT
BEGIN:VEVENT
DTSTART;TZID=Europe/Madrid:20260421T011151
DTEND;TZID=Europe/Madrid:20260421T011151
DTSTAMP:20260421T011151
CREATED:20250108T133350Z
LAST-MODIFIED:20250108T133350Z
UID:2989-0-0@casarabonela.com
SUMMARY:FIESTA LOCAL EN PUERTO DE MORAL (HUELVA)
DESCRIPTION:20250407
URL:https://casarabonela.com/event/fiesta-local-en-puerto-de-moral-huelva/
END:VEVENT
BEGIN:VEVENT
DTSTART;TZID=Europe/Madrid:20260421T011151
DTEND;TZID=Europe/Madrid:20260421T011151
DTSTAMP:20260421T011151
CREATED:20250108T133350Z
LAST-MODIFIED:20250108T133350Z
UID:2990-0-0@casarabonela.com
SUMMARY:FIESTA LOCAL EN PUERTO DE MORAL (HUELVA)
DESCRIPTION:20250728
URL:https://casarabonela.com/event/fiesta-local-en-puerto-de-moral-huelva-2/
END:VEVENT
BEGIN:VEVENT
DTSTART;TZID=Europe/Madrid:20260421T011151
DTEND;TZID=Europe/Madrid:20260421T011151
DTSTAMP:20260421T011151
CREATED:20250108T133350Z
LAST-MODIFIED:20250108T133350Z
UID:2991-0-0@casarabonela.com
SUMMARY:FIESTA LOCAL EN PUNTA UMBRÍA (HUELVA)
DESCRIPTION:20250519
URL:https://casarabonela.com/event/fiesta-local-en-punta-umbria-huelva/
END:VEVENT
BEGIN:VEVENT
DTSTART;TZID=Europe/Madrid:20260421T011151
DTEND;TZID=Europe/Madrid:20260421T011151
DTSTAMP:20260421T011151
CREATED:20250108T133350Z
LAST-MODIFIED:20250108T133350Z
UID:2992-0-0@casarabonela.com
SUMMARY:FIESTA LOCAL EN PUNTA UMBRÍA (HUELVA)
DESCRIPTION:20250716
URL:https://casarabonela.com/event/fiesta-local-en-punta-umbria-huelva-2/
END:VEVENT
BEGIN:VEVENT
DTSTART;TZID=Europe/Madrid:20260421T011151
DTEND;TZID=Europe/Madrid:20260421T011151
DTSTAMP:20260421T011151
CREATED:20250108T133335Z
LAST-MODIFIED:20250108T133350Z
UID:2987-0-0@casarabonela.com
SUMMARY:FIESTA LOCAL EN PUEBLA DE GUZMÁN (HUELVA)
DESCRIPTION:20250812
URL:https://casarabonela.com/event/fiesta-local-en-puebla-de-guzman-huelva/
END:VEVENT
BEGIN:VEVENT
DTSTART;TZID=Europe/Madrid:20260421T011151
DTEND;TZID=Europe/Madrid:20260421T011151
DTSTAMP:20260421T011151
CREATED:20250108T133335Z
LAST-MODIFIED:20250108T133335Z
UID:2983-0-0@casarabonela.com
SUMMARY:FIESTA LOCAL EN PATERNA DEL CAMPO (HUELVA)
DESCRIPTION:20250716
URL:https://casarabonela.com/event/fiesta-local-en-paterna-del-campo-huelva/
END:VEVENT
BEGIN:VEVENT
DTSTART;TZID=Europe/Madrid:20260421T011151
DTEND;TZID=Europe/Madrid:20260421T011151
DTSTAMP:20260421T011151
CREATED:20250108T133335Z
LAST-MODIFIED:20250108T133335Z
UID:2984-0-0@casarabonela.com
SUMMARY:FIESTA LOCAL EN PATERNA DEL CAMPO (HUELVA)
DESCRIPTION:20250825
URL:https://casarabonela.com/event/fiesta-local-en-paterna-del-campo-huelva-2/
END:VEVENT
BEGIN:VEVENT
DTSTART;TZID=Europe/Madrid:20260421T011151
DTEND;TZID=Europe/Madrid:20260421T011151
DTSTAMP:20260421T011151
CREATED:20250108T133335Z
LAST-MODIFIED:20250108T133335Z
UID:2985-0-0@casarabonela.com
SUMMARY:FIESTA LOCAL EN PAYMOGO (HUELVA)
DESCRIPTION:20250505
URL:https://casarabonela.com/event/fiesta-local-en-paymogo-huelva/
END:VEVENT
BEGIN:VEVENT
DTSTART;TZID=Europe/Madrid:20260421T011151
DTEND;TZID=Europe/Madrid:20260421T011151
DTSTAMP:20260421T011151
CREATED:20250108T133335Z
LAST-MODIFIED:20250108T133335Z
UID:2986-0-0@casarabonela.com
SUMMARY:FIESTA LOCAL EN PAYMOGO (HUELVA)
DESCRIPTION:20250721
URL:https://casarabonela.com/event/fiesta-local-en-paymogo-huelva-2/
END:VEVENT
BEGIN:VEVENT
DTSTART;TZID=Europe/Madrid:20260421T011151
DTEND;TZID=Europe/Madrid:20260421T011151
DTSTAMP:20260421T011151
CREATED:20250108T133320Z
LAST-MODIFIED:20250108T133320Z
UID:2981-0-0@casarabonela.com
SUMMARY:FIESTA LOCAL EN PALOS DE LA FRONTERA (HUELVA)
DESCRIPTION:20250317
URL:https://casarabonela.com/event/fiesta-local-en-palos-de-la-frontera-huelva/
END:VEVENT
BEGIN:VEVENT
DTSTART;TZID=Europe/Madrid:20260421T011151
DTEND;TZID=Europe/Madrid:20260421T011151
DTSTAMP:20260421T011151
CREATED:20250108T133320Z
LAST-MODIFIED:20250108T133320Z
UID:2982-0-0@casarabonela.com
SUMMARY:FIESTA LOCAL EN PALOS DE LA FRONTERA (HUELVA)
DESCRIPTION:20250814
URL:https://casarabonela.com/event/fiesta-local-en-palos-de-la-frontera-huelva-2/
END:VEVENT
BEGIN:VEVENT
DTSTART;TZID=Europe/Madrid:20260421T011151
DTEND;TZID=Europe/Madrid:20260421T011151
DTSTAMP:20260421T011151
CREATED:20250108T133320Z
LAST-MODIFIED:20250108T133320Z
UID:2979-0-0@casarabonela.com
SUMMARY:FIESTA LOCAL EN LA PALMA DEL CONDADO (HUELVA)
DESCRIPTION:20250816
URL:https://casarabonela.com/event/fiesta-local-en-la-palma-del-condado-huelva/
END:VEVENT
BEGIN:VEVENT
DTSTART;TZID=Europe/Madrid:20260421T011151
DTEND;TZID=Europe/Madrid:20260421T011151
DTSTAMP:20260421T011151
CREATED:20250108T133320Z
LAST-MODIFIED:20250108T133320Z
UID:2980-0-0@casarabonela.com
SUMMARY:FIESTA LOCAL EN LA PALMA DEL CONDADO (HUELVA)
DESCRIPTION:20250929
URL:https://casarabonela.com/event/fiesta-local-en-la-palma-del-condado-huelva-2/
END:VEVENT
BEGIN:VEVENT
DTSTART;TZID=Europe/Madrid:20260421T011151
DTEND;TZID=Europe/Madrid:20260421T011151
DTSTAMP:20260421T011151
CREATED:20250108T133305Z
LAST-MODIFIED:20250108T133305Z
UID:2975-0-0@casarabonela.com
SUMMARY:FIESTA LOCAL EN NERVA (HUELVA)
DESCRIPTION:20250807
URL:https://casarabonela.com/event/fiesta-local-en-nerva-huelva/
END:VEVENT
BEGIN:VEVENT
DTSTART;TZID=Europe/Madrid:20260421T011151
DTEND;TZID=Europe/Madrid:20260421T011151
DTSTAMP:20260421T011151
CREATED:20250108T133305Z
LAST-MODIFIED:20250108T133305Z
UID:2976-0-0@casarabonela.com
SUMMARY:FIESTA LOCAL EN NERVA (HUELVA)
DESCRIPTION:20250825
URL:https://casarabonela.com/event/fiesta-local-en-nerva-huelva-2/
END:VEVENT
END:VCALENDAR